Workbook

Sheet 集計
D1: 山 口 県 コード ３５
N3: 46296 | P3: 株式会社 読売西部アイエス
A5: 市・郡・区 | B5: コード № | D5: 読 売 | F5: 朝 日 | H5: 毎 日 | J5: 中 国 | P5: 枚数計 | Q5: 配布計 | R5: ページ | S5: 26.01 世帯数
D6: 枚数 | E6: 配布 | F6: 枚数 | G6: 配布 | H6: 枚数 | I6: 配布 | J6: 枚数 | K6: 配布
A7: 下関市 | B7: ０１ | C7: 枚 数 | D7: =下関市!$D$60 -> 13820 | E7: =下関市!$E$60 -> 0 | F7: =下関市!$G$60 -> 14680 | G7: =下関市!$H$60 -> 0 | H7: =下関市!$J$60 -> 10380 | I7: =下関市!$K$60 -> 0 | J7: =下関市!$M$60 -> 0 | K7: =下関市!$N$60 -> 0 | L7: =下関市!$P$60 -> 0 | M7: =下関市!$Q$60 -> 0 | P7: =SUM(D7,F7,H7,J7) -> 38880 | Q7: =SUM(E7,G7,I7,K7) -> 0 | R7: 1 | S7: 127428
A8: 長門市 | B8: ０４ | C8: 枚 数 | D8: =長門市・美祢市!$D$31 -> 650 | E8: =長門市・美祢市!$E$31 -> 0 | F8: =長門市・美祢市!$G$31 -> 2410 | G8: =長門市・美祢市!$H$31 -> 0 | H8: =長門市・美祢市!$J$31 -> 2090 | I8: =長門市・美祢市!$K$31 -> 0 | J8: =長門市・美祢市!$M$31 -> 0 | K8: =長門市・美祢市!$N$31 -> 0 | L8: =長門市・美祢市!$P$31 -> 0 | M8: =長門市・美祢市!$Q$31 -> 0 | P8: =SUM(D8,F8,H8,J8) -> 5150 | Q8: =SUM(E8,G8,I8,K8) -> 0 | R8: 2 | S8: 15245
A9: 美祢市 | B9: ０５ | C9: 枚 数 | D9: =長門市・美祢市!$D$51 -> 1670 | E9: =長門市・美祢市!$E$51 -> 0 | F9: =長門市・美祢市!$G$51 -> 160 | G9: =長門市・美祢市!$H$51 -> 0 | H9: =長門市・美祢市!$J$51 -> 1300 | I9: =長門市・美祢市!$K$51 -> 0 | J9: =長門市・美祢市!$M$51 -> 0 | K9: =長門市・美祢市!$N$51 -> 0 | L9: =長門市・美祢市!$P$51 -> 0 | M9: =長門市・美祢市!$Q$51 -> 0 | P9: =SUM(D9,F9,H9,J9) -> 3130 | Q9: =SUM(E9,G9,I9,K9) -> 0 | R9: 2 | S9: 10390
A10: 山陽小野田市 | B10: ０８ | C10: 枚 数 | D10: =山陽小野田市・宇部市!$D$24 -> 7070 | E10: =山陽小野田市・宇部市!$E$24 -> 0 | F10: =山陽小野田市・宇部市!$G$24 -> 1940 | G10: =山陽小野田市・宇部市!$H$24 -> 0 | H10: =山陽小野田市・宇部市!$J$24 -> 1840 | I10: =山陽小野田市・宇部市!$K$24 -> 0 | J10: =山陽小野田市・宇部市!$M$24 -> 0 | K10: =山陽小野田市・宇部市!$N$24 -> 0 | L10: =山陽小野田市・宇部市!$P$24 -> 0 | M10: =山陽小野田市・宇部市!$Q$24 -> 0 | P10: =SUM(D10,F10,H10,J10) -> 10850 | Q10: =SUM(E10,G10,I10,K10) -> 0 | R10: 3 | S10: 29063
A11: 宇部市 | B11: ０９ | C11: 枚 数 | D11: =山陽小野田市・宇部市!$D$48 -> 13950 | E11: =山陽小野田市・宇部市!$E$48 -> 0 | F11: =山陽小野田市・宇部市!$G$48 -> 9510 | G11: =山陽小野田市・宇部市!$H$48 -> 0 | H11: =山陽小野田市・宇部市!$J$48 -> 5480 | I11: =山陽小野田市・宇部市!$K$48 -> 0 | J11: =山陽小野田市・宇部市!$M$48 -> 0 | K11: =山陽小野田市・宇部市!$N$48 -> 0 | L11: =山陽小野田市・宇部市!$P$48 -> 0 | M11: =山陽小野田市・宇部市!$Q$48 -> 0 | P11: =SUM(D11,F11,H11,J11) -> 28940 | Q11: =SUM(E11,G11,I11,K11) -> 0 | R11: 3 | S11: 79528
A12: 山口市 | B12: １１ | C12: 枚 数 | D12: =山口市・防府市!$D$46 -> 13520 | E12: =山口市・防府市!$E$46 -> 0 | F12: =山口市・防府市!$G$46 -> 13310 | G12: =山口市・防府市!$H$46 -> 0 | H12: =山口市・防府市!$J$46 -> 8110 | I12: =山口市・防府市!$K$46 -> 0 | J12: =山口市・防府市!$M$46 -> 0 | K12: =山口市・防府市!$N$46 -> 0 | L12: =山口市・防府市!$P$46 -> 0 | M12: =山口市・防府市!$Q$46 -> 0 | P12: =SUM(D12,F12,H12,J12) -> 34940 | Q12: =SUM(E12,G12,I12,K12) -> 0 | R12: 4 | S12: 91597
A13: 防府市 | B13: １２ | C13: 枚 数 | D13: =山口市・防府市!$D$60 -> 8440 | E13: =山口市・防府市!$E$60 -> 0 | F13: =山口市・防府市!$G$60 -> 8250 | G13: =山口市・防府市!$H$60 -> 0 | H13: =山口市・防府市!$J$60 -> 2610 | I13: =山口市・防府市!$K$60 -> 0 | J13: =山口市・防府市!$M$60 -> 0 | K13: =山口市・防府市!$N$60 -> 0 | L13: =山口市・防府市!$P$60 -> 0 | M13: =山口市・防府市!$Q$60 -> 0 | P13: =SUM(D13,F13,H13,J13) -> 19300 | Q13: =SUM(E13,G13,I13,K13) -> 0 | R13: 4 | S13: 56850
A14: 阿武郡 | B14: １４ | C14: 枚 数 | D14: =阿武郡・萩市!$D$28 -> 80 | E14: =阿武郡・萩市!$E$28 -> 0 | F14: =阿武郡・萩市!$G$28 -> 290 | G14: =阿武郡・萩市!$H$28 -> 0 | H14: =阿武郡・萩市!$J$28 -> 0 | I14: =阿武郡・萩市!$K$28 -> 0 | J14: =阿武郡・萩市!$M$28 -> 0 | K14: =阿武郡・萩市!$N$28 -> 0 | L14: =阿武郡・萩市!$P$28 -> 0 | M14: =阿武郡・萩市!$Q$28 -> 0 | P14: =SUM(D14,F14,H14,J14) -> 370 | Q14: =SUM(E14,G14,I14,K14) -> 0 | R14: 5 | S14: 1438
A15: 萩市 | B15: １５ | C15: 枚 数 | D15: =阿武郡・萩市!$D$58 -> 3470 | E15: =阿武郡・萩市!$E$58 -> 0 | F15: =阿武郡・萩市!$G$58 -> 2590 | G15: =阿武郡・萩市!$H$58 -> 0 | H15: =阿武郡・萩市!$J$58 -> 1110 | I15: =阿武郡・萩市!$K$58 -> 0 | J15: =阿武郡・萩市!$M$58 -> 0 | K15: =阿武郡・萩市!$N$58 -> 0 | L15: =阿武郡・萩市!$P$58 -> 0 | M15: =阿武郡・萩市!$Q$58 -> 0 | P15: =SUM(D15,F15,H15,J15) -> 7170 | Q15: =SUM(E15,G15,I15,K15) -> 0 | R15: 5 | S15: 21981
A16: 周南市 | B16: １６ | C16: 枚 数 | D16: =周南市・下松市・光市!$D$42 -> 11350 | E16: =周南市・下松市・光市!$E$42 -> 0 | F16: =周南市・下松市・光市!$G$42 -> 12560 | G16: =周南市・下松市・光市!$H$42 -> 0 | H16: =周南市・下松市・光市!$J$42 -> 2440 | I16: =周南市・下松市・光市!$K$42 -> 0 | J16: =周南市・下松市・光市!$M$42 -> 0 | K16: =周南市・下松市・光市!$N$42 -> 0 | L16: =周南市・下松市・光市!$P$42 -> 0 | M16: =周南市・下松市・光市!$Q$42 -> 0 | P16: =SUM(D16,F16,H16,J16) -> 26350 | Q16: =SUM(E16,G16,I16,K16) -> 0 | R16: 6 | S16: 67621
A17: 下松市 | B17: １９ | C17: 枚 数 | D17: =周南市・下松市・光市!$D$51 -> 4730 | E17: =周南市・下松市・光市!$E$51 -> 0 | F17: =周南市・下松市・光市!$G$51 -> 3920 | G17: =周南市・下松市・光市!$H$51 -> 0 | H17: =周南市・下松市・光市!$J$51 -> 930 | I17: =周南市・下松市・光市!$K$51 -> 0 | J17: =周南市・下松市・光市!$M$51 -> 0 | K17: =周南市・下松市・光市!$N$51 -> 0 | L17: =周南市・下松市・光市!$P$51 -> 0 | M17: =周南市・下松市・光市!$Q$51 -> 0 | P17: =SUM(D17,F17,H17,J17) -> 9580 | Q17: =SUM(E17,G17,I17,K17) -> 0 | R17: 6 | S17: 27088
A18: 光市 | B18: ２０ | C18: 枚 数 | D18: =周南市・下松市・光市!$D$60 -> 3250 | E18: =周南市・下松市・光市!$E$60 -> 0 | F18: =周南市・下松市・光市!$G$60 -> 3500 | G18: =周南市・下松市・光市!$H$60 -> 0 | H18: =周南市・下松市・光市!$J$60 -> 1520 | I18: =周南市・下松市・光市!$K$60 -> 0 | J18: =周南市・下松市・光市!$M$60 -> 2170 | K18: =周南市・下松市・光市!$N$60 -> 0 | L18: =周南市・下松市・光市!$P$60 -> 0 | M18: =周南市・下松市・光市!$Q$60 -> 0 | P18: =SUM(D18,F18,H18,J18) -> 10440 | Q18: =SUM(E18,G18,I18,K18) -> 0 | R18: 6 | S18: 23294
A19: 熊毛郡 | B19: ２１ | C19: 枚 数 | D19: =熊毛郡・柳井市!$D$40 -> 280 | E19: =熊毛郡・柳井市!$E$40 -> 0 | F19: =熊毛郡・柳井市!$G$40 -> 3320 | G19: =熊毛郡・柳井市!$H$40 -> 0 | H19: =熊毛郡・柳井市!$J$40 -> 0 | I19: =熊毛郡・柳井市!$K$40 -> 0 | J19: =熊毛郡・柳井市!$M$40 -> 1940 | K19: =熊毛郡・柳井市!$N$40 -> 0 | L19: =熊毛郡・柳井市!$P$40 -> 0 | M19: =熊毛郡・柳井市!$Q$40 -> 0 | P19: =SUM(D19,F19,H19,J19) -> 5540 | Q19: =SUM(E19,G19,I19,K19) -> 0 | R19: 7 | S19: 13511
A20: 柳井市 | B20: ２２ | C20: 枚 数 | D20: =熊毛郡・柳井市!$D$56 -> 2250 | E20: =熊毛郡・柳井市!$E$56 -> 0 | F20: =熊毛郡・柳井市!$G$56 -> 0 | G20: =熊毛郡・柳井市!$H$56 -> 0 | H20: =熊毛郡・柳井市!$J$56 -> 0 | I20: =熊毛郡・柳井市!$K$56 -> 0 | J20: =熊毛郡・柳井市!$M$56 -> 4020 | K20: =熊毛郡・柳井市!$N$56 -> 0 | L20: =熊毛郡・柳井市!$P$56 -> 0 | M20: =熊毛郡・柳井市!$Q$56 -> 0 | P20: =SUM(D20,F20,H20,J20) -> 6270 | Q20: =SUM(E20,G20,I20,K20) -> 0 | R20: 7 | S20: 15085
A21: 大島郡 | B21: ２３ | C21: 枚 数 | D21: =大島郡!$D$57 -> 100 | E21: =大島郡!$E$57 -> 0 | F21: =大島郡!$G$57 -> 180 | G21: =大島郡!$H$57 -> 0 | H21: =大島郡!$J$57 -> 10 | I21: =大島郡!$K$57 -> 0 | J21: =大島郡!$M$57 -> 2870 | K21: =大島郡!$N$57 -> 0 | L21: =大島郡!$P$57 -> 0 | M21: =大島郡!$Q$57 -> 0 | P21: =SUM(D21,F21,H21,J21) -> 3160 | Q21: =SUM(E21,G21,I21,K21) -> 0 | R21: 8 | S21: 7841
A22: 岩国市・玖珂郡 | B22: ２５ | C22: 枚 数 | D22: =岩国市!$D$57 -> 6740 | E22: =岩国市!$E$57 -> 0 | F22: =岩国市!$G$57 -> 0 | G22: =岩国市!$H$57 -> 0 | H22: =岩国市!$J$57 -> 0 | I22: =岩国市!$K$57 -> 0 | J22: =岩国市!$M$57 -> 21580 | K22: =岩国市!$N$57 -> 0 | L22: =岩国市!$P$57 -> 0 | M22: =岩国市!$Q$57 -> 0 | P22: =SUM(D22,F22,H22,J22) -> 28320 | Q22: =SUM(E22,G22,I22,K22) -> 0 | R22: 9 | S22: 66687
A23: 合 計 | C23: 枚 数 | D23: =SUM(D7:E22) -> 91370 | E23: =SUM(E7:E22) -> 0 | F23: =SUM(F7:G22) -> 76620 | G23: =SUM(G7:G22) -> 0 | H23: =SUM(H7:I22) -> 37820 | I23: =SUM(I7:I22) -> 0 | J23: =SUM(J7:K22) -> 32580 | K23: =SUM(K7:K22) -> 0 | L23: =SUM(L7:L22) -> 0 | M23: =SUM(M7:M22) -> 0 | N23: =SUM(N7:N22) -> 0 | P23: =SUM(D23:O23) -> 238390 | Q23: =SUM(Q7:Q22) -> 0 | S23: =SUM(S7:S22) -> 654647
D24: 福 岡 県 コード ０８
N26: 36130 | P26: 株式会社読売西部 I S
A28: 市・郡・区 | B28: コード № | D28: 読 売 | F28: 朝 日 | H28: 毎 日 | J28: 西 日 本 | L28: 日 経 | P28: 計 | Q28: 世帯数 | R28: ページ
D29: コード | E29: ０１ | F29: コード | G29: ０２ | H29: コード | I29: ０３ | J29: コード | K29: ０４ | L29: コード | N29: コード | O29: ００

Sheet 下関市
B1: 山口営業所 | F1: 山 口 県 コード ３５
M2: 46296 | O2: 株式会社読売西部アイエス
A4: スポンサー名 | F4: 請求先 | H4: 折 込 日 | K4: サイズ | L4: 枚 数 | O4: センター名 | Q4: No.
H5: 年 月 日 曜 | L5: =岩国市!$L$5:$M$7 -> 0
N6: 枚
B9: 銘 柄 | C9: 読 売 | F9: 朝 日 | I9: 毎 日 | L9: 中 国 | O9: 山 口
C10: コード ０１ | F10: コード ０２ | I10: コード ０３ | L10: コード ６９ | O10: コード ０８
A11: 市郡区 | C11: 店 名 | D11: 枚 数 | E11: 配 布 | F11: 店 名 | G11: 枚 数 | H11: 配 布 | I11: 店 名 | J11: 枚 数 | K11: 配 布 | L11: 店 名 | M11: 枚 数 | N11: 配 布 | O11: 店 名 | P11: 枚 数 | Q11: 配 布
A13: 下関市 | B13: 1 | C13: 下関西部NI | D13: 920 | F13: 下関西部YCHNI | G13: 2080 | I13: 下関S | J13: 2290
C14: 武久Ni | D14: 1170 | F14: 新椋野YCHNI | G14: 3020 | I14: 新下関S | J14: 850
C15: 下関一の宮 | D15: 970 | F15: 新下関YCHNI | G15: 1970
A22: 北浦地区 | C22: 綾羅木 | D22: 500 | F22: 綾羅木YCHNI | G22: 2310 | I22: 綾羅木NiS | J22: 2470
C23: 安岡A | D23: 1440 | I23: 安岡NiS | J23: 500
C24: 吉見A | D24: 480 | I24: 吉見NiS | J24: 240
A29: 彦島地区 | C29: 姫ノ水(合) | D29: 1770
C30: 彦島(合) | D30: 2090
A33: 長府地区 | C33: 長府NI | D33: 2400 | F33: 長府Ni | G33: 1760 | I33: 長府西部S | J33: 360
I34: 長府東部NiS | J34: 1140
A37: 小月地区 | F37: 王司YNI | G37: 1780 | I37: 小月・清末NiS | J37: 1070
I38: 吉田(合) | J38: 170
A40: 菊川町 | F40: 菊川(合) | G40: 1040
A43: 豊田町 | I43: 豊田(合) | J43: 800
A46: 豊浦町 | C46: 豊浦南ANI | D46: 630 | I46: 黒井S | J46: 280
C47: 川棚(合） | D47: 920
A50: 豊北町 | C50: 豊北西(合) | D50: 530 | F50: 豊北(合) | G50: 720
I51: 特牛ANiS | J51: 210
A58: ■地区枚数■ | B58: =D60+G60+J60+M60+P60 -> 38880
A60: ■配布枚数■ | B60: =E60+H60+K60+N60+Q60 -> 0 | C60: ◆小 計◆ | D60: =SUM(D13:D59) -> 13820 | E60: =SUM(E13:E59) -> 0 | F60: ◆小 計◆ | G60: =SUM(G13:G59) -> 14680 | H60: =SUM(H13:H59) -> 0 | I60: ◆小 計◆ | J60: =SUM(J13:J59) -> 10380 | K60: =SUM(K13:K59) -> 0 | L60: ◆小 計◆ | M60: =SUM(M13:M59) -> 0 | N60: =SUM(N13:N59) -> 0 | O60: ◆小 計◆ | P60: =SUM(P13:P59) -> 0 | Q60: =SUM(Q13:Q59) -> 0

Sheet 長門市・美祢市
B1: 山口営業所 | F1: 山 口 県 コード ３５
M2: 46296 | O2: 株式会社読売西部アイエス
A4: スポンサー名 | F4: 請求先 | H4: 折 込 日 | K4: サイズ | L4: 枚 数 | O4: センター名 | Q4: No.
H5: 年 月 日 曜 | L5: =岩国市!$L$5:$M$7 -> 0
N6: 枚
B9: 銘 柄 | C9: 読 売 | F9: 朝 日 | I9: 毎 日 | L9: 中 国 | O9: 山 口
C10: コード ０１ | F10: コード ０２ | I10: コード ０３ | L10: コード ６９ | O10: コード ０８
A11: 市郡区 | C11: 店 名 | D11: 枚 数 | E11: 配 布 | F11: 店 名 | G11: 枚 数 | H11: 配 布 | I11: 店 名 | J11: 枚 数 | K11: 配 布 | L11: 店 名 | M11: 枚 数 | N11: 配 布 | O11: 店 名 | P11: 枚 数 | Q11: 配 布
A13: 長門市(旧市内) | B13: 4 | F13: 長門Y | G13: 1680 | I13: 長門NIS | J13: 1030
I14: 仙崎YNIS | J14: 720
A17: 三隅町 | C17: 三隅A | D17: 650 | I17: 三隅NIS | J17: 340
A21: 油谷町 | C21: 人丸 | D21: 朝日へ | F21: 人丸Y | G21: 410
F22: 向津具MNIS | G22: 100
A25: 日置町 | F25: 古市YMNi | G25: 220
A29: ■地区枚数■ | B29: =D31+G31+J31+M31+P31 -> 5150
A31: ■配布枚数■ | B31: =E31+H31+K31+N31+Q31 -> 0 | C31: ◆小 計◆ | D31: =SUM(D13:D30) -> 650 | E31: =SUM(E13:E30) -> 0 | F31: ◆小 計◆ | G31: =SUM(G13:G30) -> 2410 | H31: =SUM(H13:H30) -> 0 | I31: ◆小 計◆ | J31: =SUM(J13:J30) -> 2090 | K31: =SUM(K13:K30) -> 0 | O31: ◆小 計◆ | P31: =SUM(P13:P30) -> 0 | Q31: =SUM(Q13:Q30) -> 0
A33: 美祢市(旧市内) | B33: 5 | C33: 美祢(合) | D33: 1360 | I33: 美祢北(合) | J33: 440
C34: 伊佐堀越(合) | D34: 50
C35: 豊田前MCHNIS | D35: 260
A40: 秋芳町 | I40: 秋吉(合) | J40: 280
I41: 嘉万YANI | J41: 140
A44: 美東町 | F44: 真長田(合) | G44: 160 | I44: 大田(合) | J44: 350
I45: 絵堂(合) | J45: 90
A49: ■地区枚数■ | B49: =D51+G51+J51+M51+P51 -> 3130
A51: ■配布枚数■ | B51: =E51+H51+K51+N51+Q51 -> 0 | C51: ◆小 計◆ | D51: =SUM(D33:D50) -> 1670 | E51: =SUM(E33:E50) -> 0 | F51: ◆小 計◆ | G51: =SUM(G33:G50) -> 160 | H51: =SUM(H33:H50) -> 0 | I51: ◆小 計◆ | J51: =SUM(J33:J50) -> 1300 | K51: =SUM(K33:K50) -> 0 | O51: ◆小 計◆ | P51: =SUM(P33:P50) -> 0 | Q51: =SUM(Q33:Q50) -> 0
C61: 2005年 3月22日、長門市、大津郡三隅町・日置町・油谷町 が合併したことにより、市郡区が長門市に変更になります。
C62: 2008年 3月21日、山口県美祢市、美祢郡美東町・秋芳町が合併したことにより、市郡区が美祢市に変更になります。

Sheet 山陽小野田市・宇部市
B1: 山口営業所 | F1: 山 口 県 コード ３５
M2: 46296 | O2: 株式会社読売西部アイエス
A4: スポンサー名 | F4: 請求先 | H4: 折 込 日 | K4: サイズ | L4: 枚 数 | O4: センター名 | Q4: No.
H5: 年 月 日 曜 | L5: =岩国市!$L$5:$M$7 -> 0
N6: 枚
B9: 銘 柄 | C9: 読 売 | F9: 朝 日 | I9: 毎 日 | L9: 中 国 | O9: 日 経
C10: コード ０１ | F10: コード ０２ | I10: コード ０３ | L10: コード ６９ | O10: コード ０８
A11: 市郡区 | C11: 店 名 | D11: 枚 数 | E11: 配 布 | F11: 店 名 | G11: 枚 数 | H11: 配 布 | I11: 店 名 | J11: 枚 数 | K11: 配 布 | L11: 店 名 | M11: 枚 数 | N11: 配 布 | O11: 店 名 | P11: 枚 数 | Q11: 配 布
A13: 山陽小野田市 | B13: 8 | C13: 小野田中央 | D13: 1810 | F13: 小野田CHNi | G13: 1940 | I13: 小野田南部NiS | J13: 820
C14: 高千帆 | D14: 1610 | I14: 高千帆NiS | J14: 1020
A18: 山陽町 | C18: 厚狭(合) | D18: 2160 | G18: 0
C19: 埴生(合) | D19: 1490
A22: ■地区枚数■ | B22: =D24+G24+J24+M24+P24 -> 10850
A24: ■配布枚数■ | B24: =E24+H24+K24+N24+Q24 -> 0 | C24: ◆小 計◆ | D24: =SUM(D13:D23) -> 7070 | E24: =SUM(E13:E23) -> 0 | F24: ◆小 計◆ | G24: =SUM(G13:G23) -> 1940 | H24: =SUM(H13:H23) -> 0 | I24: ◆小 計◆ | J24: =SUM(J13:J23) -> 1840 | K24: =SUM(K13:K23) -> 0 | O24: ◆小 計◆ | P24: =SUM(P13:P23) -> 0 | Q24: =SUM(Q13:Q23) -> 0
A26: 宇部市 | B26: 9 | C26: 岐波 | D26: 1100 | F26: 岐波CHNi | G26: 1000 | I26: 常盤・床波CHS | J26: 1700
C27: 床波 | D27: 1640 | F27: 西岐波Ni | G27: 1060 | I27: 南部CHS | J27: 900
C28: 常盤 | D28: 890 | F28: 空港Ni | G28: 1390 | I28: 上宇部S | J28: 990
C29: 宇部東部 | D29: 850 | F29: 東新川Ni | G29: 730 | I29: 中央CHS | J29: 1020
C30: 梶返 | D30: 1160 | F30: 琴芝Ni | G30: 1220 | I30: 藤山CH | J30: 200
C31: 上宇部 | D31: 950 | F31: 宇部西部Ni | G31: 1660 | I31: 厚南CHS | J31: 310
C32: 琴芝 | D32: 740 | F32: 厚南MCHNi | G32: 2450 | I32: 厚東Ni | J32: 120
C33: 宇部西部 | D33: 1410 | I33: 妻崎CHS | J33: 240
C34: 藤山 | D34: 830
C35: 厚南 | D35: 2360
C36: 厚南北 | D36: 1290
C37: 小野(合) | D37: 110
A41: 楠町 | C41: 船木(合) | D41: 360
C42: 万倉(合) | D42: 160
C43: 吉部(合) | D43: 100
A46: ■地区枚数■ | B46: =D48+G48+J48+M48+P48 -> 28940
A48: ■配布枚数■ | B48: =E48+H48+K48+N48+Q48 -> 0 | C48: ◆小 計◆ | D48: =SUM(D26:D47) -> 13950 | E48: =SUM(E26:E47) -> 0 | F48: ◆小 計◆ | G48: =SUM(G26:G47) -> 9510 | H48: =SUM(H26:H47) -> 0 | I48: ◆小 計◆ | J48: =SUM(J26:J47) -> 5480 | K48: =SUM(K26:K47) -> 0 | O48: ◆小 計◆ | P48: =SUM(P26:P47) -> 0 | Q48: =SUM(Q26:Q47) -> 0
C61: 2005年 3月22日、小野田市、厚狭郡山陽町 が合併したことにより、市郡区が山陽小野田市に変更になります。

Sheet 山口市・防府市
B1: 山口営業所 | F1: 山 口 県 コード ３５
M2: 46296 | O2: 株式会社読売西部アイエス
A4: スポンサー名 | F4: 請求先 | H4: 折 込 日 | K4: サイズ | L4: 枚 数 | O4: センター名 | Q4: No.
H5: 年 月 日 曜 | L5: =岩国市!$L$5:$M$7 -> 0
N6: 枚
B9: 銘 柄 | C9: 読 売 | F9: 朝 日 | I9: 毎 日 | L9: 中 国 | O9: 日 経
C10: コード ０１ | F10: コード ０２ | I10: コード ０３ | L10: コード ６９ | O10: コード ０８
A11: 市郡区 | C11: 店 名 | D11: 枚 数 | E11: 配 布 | F11: 店 名 | G11: 枚 数 | H11: 配 布 | I11: 店 名 | J11: 枚 数 | K11: 配 布 | L11: 店 名 | M11: 枚 数 | N11: 配 布 | O11: 店 名 | P11: 枚 数 | Q11: 配 布
A13: 山口市 | B13: 11 | C13: 山口中央・宮野 | D13: 2640 | F13: 山口東部CHNi | G13: 810 | I13: 山口東･宮野S | J13: 650
C14: 大内 | D14: 1410 | F14: 大内中央CH | G14: 730 | I14: 西NiS | J14: 690
C15: 山口湯田 | D15: 1570 | F15: 山口中央CHNi | G15: 2570 | I15: 大内NiS | J15: 860
C16: 矢原 | D16: 1400 | F16: 大内MCHNi | G16: 2150 | I16: 湯田NiS | J16: 690
C17: 平川 | D17: 720 | F17: 湯田西部CHNi | G17: 2510 | I17: 湯田北NiS | J17: 270
C18: 小鯖 | D18: 560 | F18: 平川CHNi | G18: 900 | I18: 吉敷・大歳NiS | J18: 500
C19: 佐山Y | D19: 240 | I19: 平川S | J19: 850
C20: 佐山ANi | D20: 130 | I20: 新山口南NiS | J20: 380
A27: （旧 吉敷郡） | C27: 新山口東部 | D27: 1730 | F27: 新山口CHNi | G27: 1710 | I27: 小郡NiS | J27: 1060
C28: 新山口西部A | D28: 1300 | G28: 0 | I28: 小郡南部CHNiS | J28: 1290
D29: 0 | F29: 秋穂(合) | G29: 1540
C30: 阿知須 | D30: 1010 | F30: 阿知須Ni | G30: 390 | I30: 阿知須･佐山CHNiS | J30: 240
A33: （旧 佐波郡） | I33: 安養地 | J33: 40
C34: 堀 | D34: 110
I35: 徳地(合) | J35: 550
A37: （旧 阿武郡阿東町） | C37: 長門峡(合) | D37: 100 | I37: 柚木MCH | J37: 40
C38: 生雲(合) | D38: 60
C39: 生雲Y | D39: 60
C40: 地福(合) | D40: 130
C41: 徳佐(合) | D41: 350
A44: ■地区枚数■ | B44: =D46+G46+J46+M46+P46 -> 34940
A46: ■配布枚数■ | B46: =E46+H46+K46+N46+Q46 -> 0 | C46: ◆小 計◆ | D46: =SUM(D13:D45) -> 13520 | E46: =SUM(E13:E45) -> 0 | F46: ◆小 計◆ | G46: =SUM(G13:G45) -> 13310 | H46: =SUM(H13:H45) -> 0 | I46: ◆小 計◆ | J46: =SUM(J13:J45) -> 8110 | K46: =SUM(K13:K45) -> 0 | L46: ◆小 計◆ | M46: =SUM(M13:M45) -> 0 | N46: =SUM(N13:N45) -> 0 | O46: ◆小 計◆ | P46: =SUM(P13:P45) -> 0 | Q46: =SUM(Q13:Q45) -> 0
A48: 防府市 | B48: 12 | C48: 防府西部Ni | D48: 1310 | F48: 防府中央CHNi | G48: 3050 | I48: 北部S | J48: 430
C49: 防府宮市 | D49: 570 | F49: 三田尻CHNi | G49: 760 | I49: 牟礼S | J49: 520
C50: 防府南部Ni | D50: 2140 | F50: 防府南部CHNi | G50: 1620 | I50: 西部S | J50: 240
C51: 華城Ni | D51: 1160 | F51: 防府西部CH | G51: 910 | I51: 防府南部S | J51: 270
C52: 牟礼Ni | D52: 1220 | F52: 防府東部MCHNiS | G52: 1390 | I52: 三田尻S | J52: 740
C53: 右田・小野MS | D53: 1590 | F53: 大道CHNi | G53: 520 | I53: 右田・華城S | J53: 410
C54: 大道 | D54: 450
A58: ■地区枚数■ | B58: =D60+G60+J60+M60+P60 -> 19300
A60: ■配布枚数■ | B60: =E60+H60+K60+N60+Q60 -> 0 | C60: ◆小 計◆ | D60: =SUM(D48:D59) -> 8440 | E60: =SUM(E48:E59) -> 0 | F60: ◆小 計◆ | G60: =SUM(G48:G59) -> 8250 | H60: =SUM(H48:H59) -> 0 | I60: ◆小 計◆ | J60: =SUM(J48:J59) -> 2610 | K60: =SUM(K48:K59) -> 0 | L60: ◆小 計◆ | O60: ◆小 計◆ | P60: =SUM(P48:P59) -> 0 | Q60: =SUM(Q48:Q59) -> 0
C61: 2005年10月 1日、山口市、佐波郡徳地町、吉敷郡秋穂町・小郡町・阿知須町が合併したことにより、市郡区が山口市に変更になります。
C62: 2010年 2月 1日、山口県山口市、阿武郡阿東町が合併したことにより、上記販売店の市郡区が山口市に変更になります。

Sheet 阿武郡・萩市
B1: 山口営業所 | F1: 山 口 県 コード ３５
M2: 46296 | O2: 株式会社読売西部アイエス
A4: スポンサー名 | F4: 請求先 | H4: 折 込 日 | K4: サイズ | L4: 枚 数 | O4: センター名 | Q4: No.
H5: 年 月 日 曜 | L5: =岩国市!$L$5:$M$7 -> 0
N6: 枚
B9: 銘 柄 | C9: 読 売 | F9: 朝 日 | I9: 毎 日 | L9: 中 国 | O9: 山 口
C10: コード ０１ | F10: コード ０２ | I10: コード ０３ | L10: コード ６９ | O10: コード ０８
A11: 市郡区 | C11: 店 名 | D11: 枚 数 | E11: 配 布 | F11: 店 名 | G11: 枚 数 | H11: 配 布 | I11: 店 名 | J11: 枚 数 | K11: 配 布 | L11: 店 名 | M11: 枚 数 | N11: 配 布 | O11: 店 名 | P11: 枚 数 | Q11: 配 布
A13: 阿武郡 阿武町 | B13: 14 | C13: 福賀(合) | D13: 80 | F13: 宇田YMNi | G13: 60
F14: 奈古(合) | G14: 230
A26: ■地区枚数■ | B26: =D28+G28+J28+M28+P28 -> 370
A28: ■配布枚数■ | B28: =E28+H28+K28+N28+Q28 -> 0 | C28: ◆小 計◆ | D28: =SUM(D13:D27) -> 80 | E28: =SUM(E13:E27) -> 0 | F28: ◆小 計◆ | G28: =SUM(G13:G27) -> 290 | H28: =SUM(H13:H27) -> 0 | I28: ◆小 計◆ | J28: =SUM(J13:J27) -> 0 | K28: =SUM(K13:K27) -> 0 | L28: ◆小 計◆ | O28: ◆小 計◆ | P28: =SUM(P13:P27) -> 0 | Q28: =SUM(Q13:Q27) -> 0
A30: 萩市 | B30: 15 | C30: 東萩AMCHNi | D30: 2590 | F30: 萩(合) | G30: 2110 | I30: 萩NiS | J30: 920
F31: 大井YMNi | G31: 260
I33: 三見Ni | J33: 90
A36: 田万川町 | C36: 小川(合) | D36: 60
C37: 江崎(合) | D37: 190
A39: 須佐町 | C39: 須佐 | D39: 50 | F39: 須佐 | G39: 80 | I39: 須佐NiS | J39: 50
F40: 弥富(合) | G40: 50
A42: むつみ村 | C42: 高俣 | D42: 80 | F42: 吉部M | G42: 90 | I42: 高俣AS | J42: 50
A44: 福栄村 | C44: 紫福(合) | D44: 90
C45: 福井(合) | D45: 120
A47: 川上村
A49: 旭村 | C49: 佐々並(合) | D49: 60
C50: 明木AMCHNi | D50: 230
A56: ■地区枚数■ | B56: =D58+G58+J58+M58+P58 -> 7170
A58: ■配布枚数■ | B58: =E58+H58+K58+N58+Q58 -> 0 | C58: ◆小 計◆ | D58: =SUM(D30:D57) -> 3470 | E58: =SUM(E30:E57) -> 0 | F58: ◆小 計◆ | G58: =SUM(G30:G57) -> 2590 | H58: =SUM(H30:H57) -> 0 | I58: ◆小 計◆ | J58: =SUM(J30:J57) -> 1110 | K58: =SUM(K30:K57) -> 0 | L58: ◆小 計◆ | M58: =SUM(M30:M57) -> 0 | N58: =SUM(N30:N57) -> 0 | O58: ◆小 計◆ | P58: =SUM(P30:P57) -> 0 | Q58: =SUM(Q30:Q57) -> 0
C61: 2005年3月6日、萩市、阿武郡川上村・田万川町・むつみ村・須佐町・旭村・福栄村 が合併したことにより、市郡区が萩市に変更になります。

Sheet 周南市・下松市・光市
B1: 山口営業所 | F1: 山 口 県 コード ３５
M2: 46296 | O2: 株式会社読売西部アイエス
A4: スポンサー名 | F4: 請求先 | H4: 折 込 日 | K4: サイズ | L4: 枚 数 | O4: センター名 | Q4: No.
H5: 年 月 日 曜 | L5: =岩国市!$L$5:$M$7 -> 0
N6: 枚
B9: 銘 柄 | C9: 読 売 | F9: 朝 日 | I9: 毎 日 | L9: 中 国 | O9: 日 経
C10: コード ０１ | F10: コード ０２ | I10: コード ０３ | L10: コード ６９ | O10: コード ０８
A11: 市郡区 | C11: 店 名 | D11: 枚 数 | E11: 配 布 | F11: 店 名 | G11: 枚 数 | H11: 配 布 | I11: 店 名 | J11: 枚 数 | K11: 配 布 | L11: 店 名 | M11: 枚 数 | N11: 配 布 | O11: 店 名 | P11: 枚 数 | Q11: 配 布
A12: 周南市 | B12: 16
A13: （旧 徳山市） | C13: 徳山西 | D13: 900 | F13: 徳山CHNi | G13: 4300 | I13: 徳山中央S | J13: 320
C14: 徳山 | D14: 1210 | F14: 岐山周南CHNi | G14: 2320 | I14: 岐山 | J14: 170
C15: 周南 | D15: 1070 | F15: 東周南MCHNiS | G15: 2630 | I15: 徳山S | J15: 850
C16: 櫛ヶ浜 | D16: 1340 | F16: 周南北部MCHNiS | G16: 470
C17: 戸田(合) | D17: 1240
C18: 須々万 | D18: 470
C23: 中須(合) | D23: 150
C24: 須金(合) | D24: 40
A27: （旧 都濃郡鹿野町） | C27: 鹿野(合) | D27: 390
A30: （旧 新南陽市） | C30: 新南陽 | D30: 1900 | F30: 新南陽MCHNi | G30: 2660 | I30: 富田S | J30: 420
C31: 富田中央 | D31: 1300
C35: 勝間Y | D35: 960
A36: （旧 熊毛郡熊毛町） | C36: 勝間A | D36: 290 | G36: 0 | H36: 0 | I36: 勝間CH(高水ANiS | J36: 680
C37: 八代(合) | D37: 90 | F37: 三丘MCHNi | G37: 180
A40: ■地区枚数■ | B40: =D42+G42+J42+M42+P42 -> 26350
A42: ■配布枚数■ | B42: =E42+H42+K42+N42+Q42 -> 0 | C42: ◆小 計◆ | D42: =SUM(D12:D41) -> 11350 | E42: =SUM(E12:E41) -> 0 | F42: ◆小 計◆ | G42: =SUM(G12:G41) -> 12560 | H42: =SUM(H12:H41) -> 0 | I42: ◆小 計◆ | J42: =SUM(J12:J41) -> 2440 | K42: =SUM(K12:K41) -> 0 | L42: ◆小 計◆ | M42: =SUM(M12:M41) -> 0 | N42: =SUM(N12:N41) -> 0 | O42: ◆小 計◆ | P42: =SUM(P12:P41) -> 0 | Q42: =SUM(Q12:Q41) -> 0
A44: 下松市 | B44: 19 | C44: 下松中央 | D44: 1300 | F44: 下松中央CHNi | G44: 1830 | I44: 下松S | J44: 340
C45: 下松東 | D45: 700 | F45: 下松北部CHNi | G45: 2090 | I45: 宮前NiS | J45: 590
C46: 花岡Ni | D46: 1430
C47: 下松北MNiS | D47: 1300
A49: ■地区枚数■ | B49: =D51+G51+J51+M51+P51 -> 9580
A51: ■配布枚数■ | B51: =E51+H51+K51+N51+Q51 -> 0 | C51: ◆小 計◆ | D51: =SUM(D44:D50) -> 4730 | E51: =SUM(E44:E50) -> 0 | F51: ◆小 計◆ | G51: =SUM(G44:G50) -> 3920 | H51: =SUM(H44:H50) -> 0 | I51: ◆小 計◆ | J51: =SUM(J44:J50) -> 930 | K51: =SUM(K44:K50) -> 0 | L51: ◆小 計◆ | M51: =SUM(M44:M50) -> 0 | N51: =SUM(N44:N50) -> 0 | O51: ◆小 計◆ | P51: =SUM(P44:P50) -> 0 | Q51: =SUM(Q44:Q50) -> 0
A53: 光市 | B53: 20 | C53: 浅江 | D53: 1000 | F53: 駅前 | G53: 750 | I53: 光NiS | J53: 520 | L53: 光 | M53: 1240
C54: 光中央 | D54: 1200 | F54: 中央Ni | G54: 1850 | I54: 光ヶ丘 | J54: 310 | L54: 岩田AMNiS | M54: 930
C55: 三島Ni | D55: 430 | F55: 上島田MCHS | G55: 900 | I55: 光井Ni | J55: 370
C56: 岩田 | D56: 620 | I56: 室積S | J56: 320
A58: ■地区枚数■ | B58: =D60+G60+J60+M60+P60 -> 10440
A60: ■配布枚数■ | B60: =E60+H60+K60+N60+Q60 -> 0 | C60: ◆小 計◆ | D60: =SUM(D53:D59) -> 3250 | E60: =SUM(E53:E59) -> 0 | F60: ◆小 計◆ | G60: =SUM(G53:G59) -> 3500 | H60: =SUM(H53:H59) -> 0 | I60: ◆小 計◆ | J60: =SUM(J53:J59) -> 1520 | K60: =SUM(K53:K59) -> 0 | L60: ◆小 計◆ | M60: =SUM(M53:M59) -> 2170 | N60: =SUM(N53:N59) -> 0 | O60: ◆小 計◆ | P60: =SUM(P53:P59) -> 0 | Q60: =SUM(Q53:Q59) -> 0
C61: 200３年４月２１日、新南陽市・徳山市・熊毛郡熊毛町・都濃郡鹿野町 が合併したことにより、市郡区が周南市に変更になります。

Sheet 熊毛郡・柳井市
B1: 山口営業所 | F1: 山 口 県 コード ３５
M2: 46296 | O2: 株式会社読売西部アイエス
A4: スポンサー名 | F4: 請求先 | H4: 折 込 日 | K4: サイズ | L4: 枚 数 | O4: センター名 | Q4: No.
H5: 年 月 日 曜 | L5: =岩国市!$L$5:$M$7 -> 0
N6: 枚
B9: 銘 柄 | C9: 読 売 | F9: 朝 日 | I9: 毎 日 | L9: 中 国 | O9: 日 経
C10: コード ０１ | F10: コード ０２ | I10: コード ０３ | L10: コード ６９ | O10: コード ０５
A11: 市郡区 | C11: 店 名 | D11: 枚 数 | E11: 配 布 | F11: 店 名 | G11: 枚 数 | H11: 配 布 | I11: 店 名 | J11: 枚 数 | K11: 配 布 | L11: 店 名 | M11: 枚 数 | N11: 配 布 | O11: 店 名 | P11: 枚 数 | Q11: 配 布
A12: 熊毛郡 | B12: 21
A13: 平生町 | F13: 平生(合) | G13: 1510 | L13: 熊毛Ni | M13: 1800
L14: 佐賀MNiS | M14: 140
A17: 上関町 | C17: 上ノ関・室津(合) | D17: 280
A20: 田布施町 | F20: 田布施YMS | G20: 1810
A38: ■地区枚数■ | B38: =D40+G40+J40+M40+P40 -> 5540
A40: ■配布枚数■ | B40: =E40+H40+K40+N40+Q40 -> 0 | C40: ◆小 計◆ | D40: =SUM(D12:D39) -> 280 | E40: =SUM(E12:E39) -> 0 | F40: ◆小 計◆ | G40: =SUM(G12:G39) -> 3320 | H40: =SUM(H12:H39) -> 0 | I40: ◆小 計◆ | J40: =SUM(J12:J39) -> 0 | K40: =SUM(K12:K39) -> 0 | L40: ◆小 計◆ | M40: =SUM(M12:M39) -> 1940 | N40: =SUM(N12:N39) -> 0 | O40: ◆小 計◆ | P40: =SUM(P12:P39) -> 0 | Q40: =SUM(Q12:Q39) -> 0
A42: 柳井市 | B42: 22 | C42: 柳井ANi | D42: 2250 | L42: 柳井MS | M42: 3040
L43: 伊陸(合) | M43: 300
L44: 日積(合) | M44: 260
L45: 大畠(合) | M45: 420
A54: ■地区枚数■ | B54: =D56+G56+J56+M56+P56 -> 6270
A56: ■配布枚数■ | B56: =E56+H56+K56+N56+Q56 -> 0 | C56: ◆小 計◆ | D56: =SUM(D42:D55) -> 2250 | E56: =SUM(E42:E55) -> 0 | F56: ◆小 計◆ | G56: =SUM(G42:G55) -> 0 | H56: =SUM(H42:H55) -> 0 | I56: ◆小 計◆ | J56: =SUM(J42:J55) -> 0 | K56: =SUM(K42:K55) -> 0 | L56: ◆小 計◆ | M56: =SUM(M42:M55) -> 4020 | N56: =SUM(N42:N55) -> 0 | O56: ◆小 計◆ | P56: =SUM(P42:P55) -> 0 | Q56: =SUM(Q42:Q55) -> 0
C61: 2005年 2月21日、柳井市、玖珂郡大畠町 が合併したことにより、市郡区が 柳井市に変更になります。

Sheet 大島郡
B1: 山口営業所 | F1: 山 口 県 コード ３５
M2: 46296 | O2: 株式会社読売西部アイエス
A4: スポンサー名 | F4: 請求先 | H4: 折 込 日 | K4: サイズ | L4: 枚 数 | O4: センター名 | Q4: No.
H5: 年 月 日 曜 | L5: =岩国市!$L$5:$M$7 -> 0
N6: 枚
B9: 銘 柄 | C9: 読 売 | F9: 朝 日 | I9: 毎 日 | L9: 中 国 | O9: 日 経
C10: コード ０１ | F10: コード ０２ | I10: コード ０３ | L10: コード ６９ | O10: コード ０８
A11: 市郡区 | C11: 店 名 | D11: 枚 数 | E11: 配 布 | F11: 店 名 | G11: 枚 数 | H11: 配 布 | I11: 店 名 | J11: 枚 数 | K11: 配 布 | L11: 店 名 | M11: 枚 数 | N11: 配 布 | O11: 店 名 | P11: 枚 数 | Q11: 配 布
A12: 大島郡 | B12: 23
A13: ※ 周防大島町
A14: (旧大島町) | L14: 小松YMS | M14: 1000
L15: 沖浦(合) | M15: 200
C16: 出井 | D16: 10
A20: (旧久賀町) | F20: 久賀Ni | G20: 140
L21: 久賀YMNiS | M21: 510
A23: (旧橘町) | C23: 安下庄 | D23: 90 | L23: 日良居・西方(合) | M23: 360
L24: 安下庄AMNiS | M24: 290
A27: (旧東和町) | I27: 外入 | J27: 10 | L27: 外入YANiS | M27: 80
F28: 森野佐連YMNi | G28: 40
L29: 森野YAM | M29: 100
L30: 和佐(合) | M30: 50
L31: 小泊(合) | M31: 50
L32: 和田(合) | M32: 70
L33: 油田(合) | M33: 130
L34: 沖家室Y | M34: 30
A55: ■地区枚数■ | B55: =D57+G57+J57+M57+P57 -> 3160
A57: ■配布枚数■ | B57: =E57+H57+K57+N57+Q57 -> 0 | C57: ◆小 計◆ | D57: =SUM(D12:D56) -> 100 | E57: =SUM(E12:E56) -> 0 | F57: ◆小 計◆ | G57: =SUM(G12:G56) -> 180 | H57: =SUM(H12:H56) -> 0 | I57: ◆小 計◆ | J57: =SUM(J12:J56) -> 10 | K57: =SUM(K12:K56) -> 0 | L57: ◆小 計◆ | M57: =SUM(M12:M56) -> 2870 | N57: =SUM(N12:N56) -> 0

Sheet 岩国市
B1: 山口営業所 | F1: 山 口 県 コード ３５
M2: 46296 | O2: 株式会社読売西部アイエス
A4: スポンサー名 | F4: 請求先 | H4: 折 込 日 | K4: サイズ | L4: 枚 数 | O4: センター名 | Q4: No.
H5: 年 月 日 曜 | L5: =下関市!B60+長門市・美祢市!B31+長門市・美祢市!B51+山陽小野田市・宇部市!B24+山陽小野田市・宇部市!B48+山口市・防府市!B46+山口市・防府市!B60+阿武郡・萩市!B28+阿武郡・萩市!B58+周南市・下松市・光市!B42+周南市・下松市・光市!B51+周南市・下松市・光市!B60+熊毛郡・柳井市!B40+熊毛郡・柳井市!B56+大島郡!B57+岩国市!B57 -> 0
N6: 枚
B9: 銘 柄 | C9: 読 売 | F9: 朝 日 | I9: 毎 日 | L9: 中 国 | O9: 日 経
C10: コード ０１ | F10: コード ０２ | I10: コード ０３ | L10: コード ６９ | O10: コード ０５
A11: 市郡区 | C11: 店 名 | D11: 枚 数 | E11: 配 布 | F11: 店 名 | G11: 枚 数 | H11: 配 布 | I11: 店 名 | J11: 枚 数 | K11: 配 布 | L11: 店 名 | M11: 枚 数 | N11: 配 布 | O11: 店 名 | P11: 枚 数 | Q11: 配 布
A13: 岩国市 | B13: 25 | C13: 東部 | D13: 570 | L13: 東部AMNiS | M13: 2140
C14: 岩国中央 | D14: 630 | L14: 岩国中央AMNiS | M14: 3570
C15: 川下・人絹 | D15: 610 | L15: 西岩国AMNiS | M15: 1930
C16: 岩国西 | D16: 760 | L16: 南岩国AMNiS | M16: 3640
C17: 岩国南 | D17: 1230 | L17: 岩国藤生AMNiS | M17: 2560
C18: 藤生 | D18: 870 | L18: 新岩国(合) | M18: 970
L19: 南河内(合) | M19: 290
L20: 北河内(合) | M20: 290
A30: （旧 玖珂郡）
A31: 由宇町 | C31: 由宇神代 | D31: 680 | L31: 由宇神代AMNiS | M31: 1620
A34: 玖珂町 | C34: 玖珂 | D34: 700 | L34: 玖珂・高森AMNiS | M34: 3070
A36: 周東町 | C36: 高森MS | D36: 580
C37: 祖生 | D37: 110
A40: 美川町 | L40: ＊美川(合) | M40: 200
A43: 美和町 | L43: 岩国北(美和)(合) | M43: 670
A46: 錦町 | L46: ＊広瀬東(合) | M46: 170
L47: ＊広瀬西(合) | M47: 320
A51: 本郷村 | L51: ＊本郷(合) | M51: 140
A55: ■地区枚数■ | B55: =D57+G57+J57+M57+P57 -> 28320
A57: ■配布枚数■ | B57: =E57+H57+K57+N57+Q57 -> 0 | C57: ◆小 計◆ | D57: =SUM(D12:D55) -> 6740 | E57: =SUM(E12:E55) -> 0 | F57: ◆小 計◆ | G57: =SUM(G12:G55) -> 0 | H57: =SUM(H12:H55) -> 0 | I57: ◆小 計◆ | J57: =SUM(J12:J55) -> 0 | K57: =SUM(K12:K55) -> 0 | L57: ◆小 計◆ | M57: =SUM(M12:M55) -> 21580 | N57: =SUM(N12:N55) -> 0 | O57: ◆小 計◆ | P57: =SUM(P12:P55) -> 0 | Q57: =SUM(Q12:Q55) -> 0
